BEGIN:VCALENDAR
VERSION:2.0
PRODID:-//Heart Ministry Center - ECPv6.15.20//NONSGML v1.0//EN
CALSCALE:GREGORIAN
METHOD:PUBLISH
X-WR-CALNAME:Heart Ministry Center
X-ORIGINAL-URL:https://heartministrycenter.org
X-WR-CALDESC:Events for Heart Ministry Center
REFRESH-INTERVAL;VALUE=DURATION:PT1H
X-Robots-Tag:noindex
X-PUBLISHED-TTL:PT1H
BEGIN:VTIMEZONE
TZID:America/Chicago
BEGIN:DAYLIGHT
TZOFFSETFROM:-0600
TZOFFSETTO:-0500
TZNAME:CDT
DTSTART:20260308T080000
END:DAYLIGHT
BEGIN:STANDARD
TZOFFSETFROM:-0500
TZOFFSETTO:-0600
TZNAME:CST
DTSTART:20261101T070000
END:STANDARD
BEGIN:DAYLIGHT
TZOFFSETFROM:-0600
TZOFFSETTO:-0500
TZNAME:CDT
DTSTART:20270314T080000
END:DAYLIGHT
BEGIN:STANDARD
TZOFFSETFROM:-0500
TZOFFSETTO:-0600
TZNAME:CST
DTSTART:20271107T070000
END:STANDARD
BEGIN:DAYLIGHT
TZOFFSETFROM:-0600
TZOFFSETTO:-0500
TZNAME:CDT
DTSTART:20280312T080000
END:DAYLIGHT
BEGIN:STANDARD
TZOFFSETFROM:-0500
TZOFFSETTO:-0600
TZNAME:CST
DTSTART:20281105T070000
END:STANDARD
BEGIN:DAYLIGHT
TZOFFSETFROM:-0600
TZOFFSETTO:-0500
TZNAME:CDT
DTSTART:20290311T080000
END:DAYLIGHT
BEGIN:STANDARD
TZOFFSETFROM:-0500
TZOFFSETTO:-0600
TZNAME:CST
DTSTART:20291104T070000
END:STANDARD
END:VTIMEZONE
BEGIN:VEVENT
DTSTART;TZID=America/Chicago:20270707T100000
DTEND;TZID=America/Chicago:20270707T110000
DTSTAMP:20260420T074448
CREATED:20230727T192124Z
LAST-MODIFIED:20230727T192124Z
UID:26356-1814954400-1814958000@heartministrycenter.org
SUMMARY:Una Orientación Hacia el Futuro - Español
DESCRIPTION:El programa de Socio Voluntario trabajará contigo para encontrar una solución a largo plazo que te ayude a alcanzar la autosuficiencia. \nHablaremos con más detalle sobre todos los programas y recursos que ofrece Heart Ministry Center. \n¡La orientación es el comienzo de un mejor camino a seguir! \n(Fechas sujetas a cambios debido a días festivos)
URL:https://heartministrycenter.org/event/way-forward-orientation-espanol/2027-07-07/
ATTACH;FMTTYPE=image/png:https://heartministrycenter.org/wp-content/uploads/2023/07/orientation-hmc.png
ORGANIZER;CN="Rayna Pollock":MAILTO:rayna@heartministrycenter.org
END:VEVENT
BEGIN:VEVENT
DTSTART;TZID=America/Chicago:20270707T130000
DTEND;TZID=America/Chicago:20270707T140000
DTSTAMP:20260420T074448
CREATED:20220617T224623Z
LAST-MODIFIED:20220617T224623Z
UID:26357-1814965200-1814968800@heartministrycenter.org
SUMMARY:A Way Forward Orientation
DESCRIPTION:The Willing Partner program will work with you on a long-term solution to put you on the road to sufficiency. \nWe will further discuss all the programs and resources offered at Heart Ministry Center. \nThe orientation is the start of a better Way Forward! \n(Dates subject to change due to holidays)
URL:https://heartministrycenter.org/event/way-forward-orientation-6/2027-07-07/
ATTACH;FMTTYPE=image/png:https://heartministrycenter.org/wp-content/uploads/2023/07/orientation-hmc.png
ORGANIZER;CN="Rayna Pollock":MAILTO:rayna@heartministrycenter.org
END:VEVENT
BEGIN:VEVENT
DTSTART;TZID=America/Chicago:20270804T100000
DTEND;TZID=America/Chicago:20270804T110000
DTSTAMP:20260420T074448
CREATED:20230727T192124Z
LAST-MODIFIED:20230727T192124Z
UID:26415-1817373600-1817377200@heartministrycenter.org
SUMMARY:Una Orientación Hacia el Futuro - Español
DESCRIPTION:El programa de Socio Voluntario trabajará contigo para encontrar una solución a largo plazo que te ayude a alcanzar la autosuficiencia. \nHablaremos con más detalle sobre todos los programas y recursos que ofrece Heart Ministry Center. \n¡La orientación es el comienzo de un mejor camino a seguir! \n(Fechas sujetas a cambios debido a días festivos)
URL:https://heartministrycenter.org/event/way-forward-orientation-espanol/2027-08-04/
ATTACH;FMTTYPE=image/png:https://heartministrycenter.org/wp-content/uploads/2023/07/orientation-hmc.png
ORGANIZER;CN="Rayna Pollock":MAILTO:rayna@heartministrycenter.org
END:VEVENT
BEGIN:VEVENT
DTSTART;TZID=America/Chicago:20270804T130000
DTEND;TZID=America/Chicago:20270804T140000
DTSTAMP:20260420T074448
CREATED:20220617T224623Z
LAST-MODIFIED:20220617T224623Z
UID:26416-1817384400-1817388000@heartministrycenter.org
SUMMARY:A Way Forward Orientation
DESCRIPTION:The Willing Partner program will work with you on a long-term solution to put you on the road to sufficiency. \nWe will further discuss all the programs and resources offered at Heart Ministry Center. \nThe orientation is the start of a better Way Forward! \n(Dates subject to change due to holidays)
URL:https://heartministrycenter.org/event/way-forward-orientation-6/2027-08-04/
ATTACH;FMTTYPE=image/png:https://heartministrycenter.org/wp-content/uploads/2023/07/orientation-hmc.png
ORGANIZER;CN="Rayna Pollock":MAILTO:rayna@heartministrycenter.org
END:VEVENT
BEGIN:VEVENT
DTSTART;TZID=America/Chicago:20270901T100000
DTEND;TZID=America/Chicago:20270901T110000
DTSTAMP:20260420T074448
CREATED:20230727T192124Z
LAST-MODIFIED:20230727T192124Z
UID:26479-1819792800-1819796400@heartministrycenter.org
SUMMARY:Una Orientación Hacia el Futuro - Español
DESCRIPTION:El programa de Socio Voluntario trabajará contigo para encontrar una solución a largo plazo que te ayude a alcanzar la autosuficiencia. \nHablaremos con más detalle sobre todos los programas y recursos que ofrece Heart Ministry Center. \n¡La orientación es el comienzo de un mejor camino a seguir! \n(Fechas sujetas a cambios debido a días festivos)
URL:https://heartministrycenter.org/event/way-forward-orientation-espanol/2027-09-01/
ATTACH;FMTTYPE=image/png:https://heartministrycenter.org/wp-content/uploads/2023/07/orientation-hmc.png
ORGANIZER;CN="Rayna Pollock":MAILTO:rayna@heartministrycenter.org
END:VEVENT
BEGIN:VEVENT
DTSTART;TZID=America/Chicago:20270901T130000
DTEND;TZID=America/Chicago:20270901T140000
DTSTAMP:20260420T074448
CREATED:20220617T224623Z
LAST-MODIFIED:20220617T224623Z
UID:26480-1819803600-1819807200@heartministrycenter.org
SUMMARY:A Way Forward Orientation
DESCRIPTION:The Willing Partner program will work with you on a long-term solution to put you on the road to sufficiency. \nWe will further discuss all the programs and resources offered at Heart Ministry Center. \nThe orientation is the start of a better Way Forward! \n(Dates subject to change due to holidays)
URL:https://heartministrycenter.org/event/way-forward-orientation-6/2027-09-01/
ATTACH;FMTTYPE=image/png:https://heartministrycenter.org/wp-content/uploads/2023/07/orientation-hmc.png
ORGANIZER;CN="Rayna Pollock":MAILTO:rayna@heartministrycenter.org
END:VEVENT
BEGIN:VEVENT
DTSTART;TZID=America/Chicago:20271006T100000
DTEND;TZID=America/Chicago:20271006T110000
DTSTAMP:20260420T074448
CREATED:20230727T192124Z
LAST-MODIFIED:20230727T192124Z
UID:26622-1822816800-1822820400@heartministrycenter.org
SUMMARY:Una Orientación Hacia el Futuro - Español
DESCRIPTION:El programa de Socio Voluntario trabajará contigo para encontrar una solución a largo plazo que te ayude a alcanzar la autosuficiencia. \nHablaremos con más detalle sobre todos los programas y recursos que ofrece Heart Ministry Center. \n¡La orientación es el comienzo de un mejor camino a seguir! \n(Fechas sujetas a cambios debido a días festivos)
URL:https://heartministrycenter.org/event/way-forward-orientation-espanol/2027-10-06/
ATTACH;FMTTYPE=image/png:https://heartministrycenter.org/wp-content/uploads/2023/07/orientation-hmc.png
ORGANIZER;CN="Rayna Pollock":MAILTO:rayna@heartministrycenter.org
END:VEVENT
BEGIN:VEVENT
DTSTART;TZID=America/Chicago:20271006T130000
DTEND;TZID=America/Chicago:20271006T140000
DTSTAMP:20260420T074448
CREATED:20220617T224623Z
LAST-MODIFIED:20220617T224623Z
UID:26623-1822827600-1822831200@heartministrycenter.org
SUMMARY:A Way Forward Orientation
DESCRIPTION:The Willing Partner program will work with you on a long-term solution to put you on the road to sufficiency. \nWe will further discuss all the programs and resources offered at Heart Ministry Center. \nThe orientation is the start of a better Way Forward! \n(Dates subject to change due to holidays)
URL:https://heartministrycenter.org/event/way-forward-orientation-6/2027-10-06/
ATTACH;FMTTYPE=image/png:https://heartministrycenter.org/wp-content/uploads/2023/07/orientation-hmc.png
ORGANIZER;CN="Rayna Pollock":MAILTO:rayna@heartministrycenter.org
END:VEVENT
BEGIN:VEVENT
DTSTART;TZID=America/Chicago:20271103T100000
DTEND;TZID=America/Chicago:20271103T110000
DTSTAMP:20260420T074448
CREATED:20230727T192124Z
LAST-MODIFIED:20230727T192124Z
UID:26829-1825236000-1825239600@heartministrycenter.org
SUMMARY:Una Orientación Hacia el Futuro - Español
DESCRIPTION:El programa de Socio Voluntario trabajará contigo para encontrar una solución a largo plazo que te ayude a alcanzar la autosuficiencia. \nHablaremos con más detalle sobre todos los programas y recursos que ofrece Heart Ministry Center. \n¡La orientación es el comienzo de un mejor camino a seguir! \n(Fechas sujetas a cambios debido a días festivos)
URL:https://heartministrycenter.org/event/way-forward-orientation-espanol/2027-11-03/
ATTACH;FMTTYPE=image/png:https://heartministrycenter.org/wp-content/uploads/2023/07/orientation-hmc.png
ORGANIZER;CN="Rayna Pollock":MAILTO:rayna@heartministrycenter.org
END:VEVENT
BEGIN:VEVENT
DTSTART;TZID=America/Chicago:20271103T130000
DTEND;TZID=America/Chicago:20271103T140000
DTSTAMP:20260420T074448
CREATED:20220617T224623Z
LAST-MODIFIED:20220617T224623Z
UID:26830-1825246800-1825250400@heartministrycenter.org
SUMMARY:A Way Forward Orientation
DESCRIPTION:The Willing Partner program will work with you on a long-term solution to put you on the road to sufficiency. \nWe will further discuss all the programs and resources offered at Heart Ministry Center. \nThe orientation is the start of a better Way Forward! \n(Dates subject to change due to holidays)
URL:https://heartministrycenter.org/event/way-forward-orientation-6/2027-11-03/
ATTACH;FMTTYPE=image/png:https://heartministrycenter.org/wp-content/uploads/2023/07/orientation-hmc.png
ORGANIZER;CN="Rayna Pollock":MAILTO:rayna@heartministrycenter.org
END:VEVENT
BEGIN:VEVENT
DTSTART;TZID=America/Chicago:20271201T100000
DTEND;TZID=America/Chicago:20271201T110000
DTSTAMP:20260420T074448
CREATED:20230727T192124Z
LAST-MODIFIED:20230727T192124Z
UID:26923-1827655200-1827658800@heartministrycenter.org
SUMMARY:Una Orientación Hacia el Futuro - Español
DESCRIPTION:El programa de Socio Voluntario trabajará contigo para encontrar una solución a largo plazo que te ayude a alcanzar la autosuficiencia. \nHablaremos con más detalle sobre todos los programas y recursos que ofrece Heart Ministry Center. \n¡La orientación es el comienzo de un mejor camino a seguir! \n(Fechas sujetas a cambios debido a días festivos)
URL:https://heartministrycenter.org/event/way-forward-orientation-espanol/2027-12-01/
ATTACH;FMTTYPE=image/png:https://heartministrycenter.org/wp-content/uploads/2023/07/orientation-hmc.png
ORGANIZER;CN="Rayna Pollock":MAILTO:rayna@heartministrycenter.org
END:VEVENT
BEGIN:VEVENT
DTSTART;TZID=America/Chicago:20271201T130000
DTEND;TZID=America/Chicago:20271201T140000
DTSTAMP:20260420T074448
CREATED:20220617T224623Z
LAST-MODIFIED:20220617T224623Z
UID:26924-1827666000-1827669600@heartministrycenter.org
SUMMARY:A Way Forward Orientation
DESCRIPTION:The Willing Partner program will work with you on a long-term solution to put you on the road to sufficiency. \nWe will further discuss all the programs and resources offered at Heart Ministry Center. \nThe orientation is the start of a better Way Forward! \n(Dates subject to change due to holidays)
URL:https://heartministrycenter.org/event/way-forward-orientation-6/2027-12-01/
ATTACH;FMTTYPE=image/png:https://heartministrycenter.org/wp-content/uploads/2023/07/orientation-hmc.png
ORGANIZER;CN="Rayna Pollock":MAILTO:rayna@heartministrycenter.org
END:VEVENT
BEGIN:VEVENT
DTSTART;TZID=America/Chicago:20280105T100000
DTEND;TZID=America/Chicago:20280105T110000
DTSTAMP:20260420T074448
CREATED:20230727T192124Z
LAST-MODIFIED:20230727T192124Z
UID:27026-1830679200-1830682800@heartministrycenter.org
SUMMARY:Una Orientación Hacia el Futuro - Español
DESCRIPTION:El programa de Socio Voluntario trabajará contigo para encontrar una solución a largo plazo que te ayude a alcanzar la autosuficiencia. \nHablaremos con más detalle sobre todos los programas y recursos que ofrece Heart Ministry Center. \n¡La orientación es el comienzo de un mejor camino a seguir! \n(Fechas sujetas a cambios debido a días festivos)
URL:https://heartministrycenter.org/event/way-forward-orientation-espanol/2028-01-05/
ATTACH;FMTTYPE=image/png:https://heartministrycenter.org/wp-content/uploads/2023/07/orientation-hmc.png
ORGANIZER;CN="Rayna Pollock":MAILTO:rayna@heartministrycenter.org
END:VEVENT
BEGIN:VEVENT
DTSTART;TZID=America/Chicago:20280105T130000
DTEND;TZID=America/Chicago:20280105T140000
DTSTAMP:20260420T074448
CREATED:20220617T224623Z
LAST-MODIFIED:20220617T224623Z
UID:27027-1830690000-1830693600@heartministrycenter.org
SUMMARY:A Way Forward Orientation
DESCRIPTION:The Willing Partner program will work with you on a long-term solution to put you on the road to sufficiency. \nWe will further discuss all the programs and resources offered at Heart Ministry Center. \nThe orientation is the start of a better Way Forward! \n(Dates subject to change due to holidays)
URL:https://heartministrycenter.org/event/way-forward-orientation-6/2028-01-05/
ATTACH;FMTTYPE=image/png:https://heartministrycenter.org/wp-content/uploads/2023/07/orientation-hmc.png
ORGANIZER;CN="Rayna Pollock":MAILTO:rayna@heartministrycenter.org
END:VEVENT
BEGIN:VEVENT
DTSTART;TZID=America/Chicago:20280202T100000
DTEND;TZID=America/Chicago:20280202T110000
DTSTAMP:20260420T074448
CREATED:20230727T192124Z
LAST-MODIFIED:20230727T192124Z
UID:27181-1833098400-1833102000@heartministrycenter.org
SUMMARY:Una Orientación Hacia el Futuro - Español
DESCRIPTION:El programa de Socio Voluntario trabajará contigo para encontrar una solución a largo plazo que te ayude a alcanzar la autosuficiencia. \nHablaremos con más detalle sobre todos los programas y recursos que ofrece Heart Ministry Center. \n¡La orientación es el comienzo de un mejor camino a seguir! \n(Fechas sujetas a cambios debido a días festivos)
URL:https://heartministrycenter.org/event/way-forward-orientation-espanol/2028-02-02/
ATTACH;FMTTYPE=image/png:https://heartministrycenter.org/wp-content/uploads/2023/07/orientation-hmc.png
ORGANIZER;CN="Rayna Pollock":MAILTO:rayna@heartministrycenter.org
END:VEVENT
BEGIN:VEVENT
DTSTART;TZID=America/Chicago:20280202T130000
DTEND;TZID=America/Chicago:20280202T140000
DTSTAMP:20260420T074448
CREATED:20220617T224623Z
LAST-MODIFIED:20220617T224623Z
UID:27182-1833109200-1833112800@heartministrycenter.org
SUMMARY:A Way Forward Orientation
DESCRIPTION:The Willing Partner program will work with you on a long-term solution to put you on the road to sufficiency and introduce you to Willing Partner and Fresh Start. \nWe will further discuss all the programs and resources offered at Heart Ministry Center. \nThe orientation is the start of a better Way Forward! \n(Dates subject to change due to holidays)
URL:https://heartministrycenter.org/event/way-forward-orientation-6/2028-02-02/
ATTACH;FMTTYPE=image/png:https://heartministrycenter.org/wp-content/uploads/2023/07/orientation-hmc.png
ORGANIZER;CN="Rayna Pollock":MAILTO:rayna@heartministrycenter.org
END:VEVENT
BEGIN:VEVENT
DTSTART;TZID=America/Chicago:20280301T100000
DTEND;TZID=America/Chicago:20280301T110000
DTSTAMP:20260420T074448
CREATED:20230727T192124Z
LAST-MODIFIED:20230727T192124Z
UID:27238-1835517600-1835521200@heartministrycenter.org
SUMMARY:Una Orientación Hacia el Futuro - Español
DESCRIPTION:El programa de Socio Voluntario trabajará contigo para encontrar una solución a largo plazo que te ayude a alcanzar la autosuficiencia. \nHablaremos con más detalle sobre todos los programas y recursos que ofrece Heart Ministry Center. \n¡La orientación es el comienzo de un mejor camino a seguir! \n(Fechas sujetas a cambios debido a días festivos)
URL:https://heartministrycenter.org/event/way-forward-orientation-espanol/2028-03-01/
ATTACH;FMTTYPE=image/png:https://heartministrycenter.org/wp-content/uploads/2023/07/orientation-hmc.png
ORGANIZER;CN="Rayna Pollock":MAILTO:rayna@heartministrycenter.org
END:VEVENT
BEGIN:VEVENT
DTSTART;TZID=America/Chicago:20280301T130000
DTEND;TZID=America/Chicago:20280301T140000
DTSTAMP:20260420T074448
CREATED:20220617T224623Z
LAST-MODIFIED:20220617T224623Z
UID:27239-1835528400-1835532000@heartministrycenter.org
SUMMARY:A Way Forward Orientation
DESCRIPTION:The Willing Partner program will work with you on a long-term solution to put you on the road to sufficiency and introduce you to Willing Partner and Fresh Start. \nWe will further discuss all the programs and resources offered at Heart Ministry Center. \nThe orientation is the start of a better Way Forward! \n(Dates subject to change due to holidays)
URL:https://heartministrycenter.org/event/way-forward-orientation-6/2028-03-01/
ATTACH;FMTTYPE=image/png:https://heartministrycenter.org/wp-content/uploads/2023/07/orientation-hmc.png
ORGANIZER;CN="Rayna Pollock":MAILTO:rayna@heartministrycenter.org
END:VEVENT
BEGIN:VEVENT
DTSTART;TZID=America/Chicago:20280405T100000
DTEND;TZID=America/Chicago:20280405T110000
DTSTAMP:20260420T074448
CREATED:20230727T192124Z
LAST-MODIFIED:20230727T192124Z
UID:27317-1838541600-1838545200@heartministrycenter.org
SUMMARY:Una Orientación Hacia el Futuro - Español
DESCRIPTION:El programa de Socio Voluntario trabajará contigo para encontrar una solución a largo plazo que te ayude a alcanzar la autosuficiencia. \nHablaremos con más detalle sobre todos los programas y recursos que ofrece Heart Ministry Center. \n¡La orientación es el comienzo de un mejor camino a seguir! \n(Fechas sujetas a cambios debido a días festivos)
URL:https://heartministrycenter.org/event/way-forward-orientation-espanol/2028-04-05/
ATTACH;FMTTYPE=image/png:https://heartministrycenter.org/wp-content/uploads/2023/07/orientation-hmc.png
ORGANIZER;CN="Rayna Pollock":MAILTO:rayna@heartministrycenter.org
END:VEVENT
BEGIN:VEVENT
DTSTART;TZID=America/Chicago:20280405T130000
DTEND;TZID=America/Chicago:20280405T140000
DTSTAMP:20260420T074448
CREATED:20220617T224623Z
LAST-MODIFIED:20220617T224623Z
UID:27318-1838552400-1838556000@heartministrycenter.org
SUMMARY:A Way Forward Orientation
DESCRIPTION:The Willing Partner program will work with you on a long-term solution to put you on the road to sufficiency and introduce you to Willing Partner and Fresh Start. \nWe will further discuss all the programs and resources offered at Heart Ministry Center. \nThe orientation is the start of a better Way Forward! \n(Dates subject to change due to holidays)
URL:https://heartministrycenter.org/event/way-forward-orientation-6/2028-04-05/
ATTACH;FMTTYPE=image/png:https://heartministrycenter.org/wp-content/uploads/2023/07/orientation-hmc.png
ORGANIZER;CN="Rayna Pollock":MAILTO:rayna@heartministrycenter.org
END:VEVENT
END:VCALENDAR