BEGIN:VCALENDAR
VERSION:2.0
PRODID:-//Heart Ministry Center - ECPv6.15.20//NONSGML v1.0//EN
CALSCALE:GREGORIAN
METHOD:PUBLISH
X-WR-CALNAME:Heart Ministry Center
X-ORIGINAL-URL:https://heartministrycenter.org
X-WR-CALDESC:Events for Heart Ministry Center
REFRESH-INTERVAL;VALUE=DURATION:PT1H
X-Robots-Tag:noindex
X-PUBLISHED-TTL:PT1H
BEGIN:VTIMEZONE
TZID:America/Chicago
BEGIN:DAYLIGHT
TZOFFSETFROM:-0600
TZOFFSETTO:-0500
TZNAME:CDT
DTSTART:20260308T080000
END:DAYLIGHT
BEGIN:STANDARD
TZOFFSETFROM:-0500
TZOFFSETTO:-0600
TZNAME:CST
DTSTART:20261101T070000
END:STANDARD
BEGIN:DAYLIGHT
TZOFFSETFROM:-0600
TZOFFSETTO:-0500
TZNAME:CDT
DTSTART:20270314T080000
END:DAYLIGHT
BEGIN:STANDARD
TZOFFSETFROM:-0500
TZOFFSETTO:-0600
TZNAME:CST
DTSTART:20271107T070000
END:STANDARD
BEGIN:DAYLIGHT
TZOFFSETFROM:-0600
TZOFFSETTO:-0500
TZNAME:CDT
DTSTART:20280312T080000
END:DAYLIGHT
BEGIN:STANDARD
TZOFFSETFROM:-0500
TZOFFSETTO:-0600
TZNAME:CST
DTSTART:20281105T070000
END:STANDARD
BEGIN:DAYLIGHT
TZOFFSETFROM:-0600
TZOFFSETTO:-0500
TZNAME:CDT
DTSTART:20290311T080000
END:DAYLIGHT
BEGIN:STANDARD
TZOFFSETFROM:-0500
TZOFFSETTO:-0600
TZNAME:CST
DTSTART:20291104T070000
END:STANDARD
END:VTIMEZONE
BEGIN:VEVENT
DTSTART;TZID=America/Chicago:20270514T100000
DTEND;TZID=America/Chicago:20270514T120000
DTSTAMP:20260420T075115
CREATED:20220922T143904Z
LAST-MODIFIED:20220922T143904Z
UID:26586-1810288800-1810296000@heartministrycenter.org
SUMMARY:Lawyers in the City
DESCRIPTION:2221 Wirt Street \nLegal Advice for first come\, first serve \n(Presente traductor ingles espanol) \nCivil law questions only (no criminal law\, no appeals) \nBrief legal advice for low-income residents \nLegal resources and self-help forms \n 
URL:https://heartministrycenter.org/event/lawyers-in-the-city-3-2023-11-10/2027-05-14/
LOCATION:Heart Ministry Center\, 2222 Binney Street\, Omaha\, NE\, 68110\, United States
CATEGORIES:Legal
ATTACH;FMTTYPE=image/jpeg:https://heartministrycenter.org/wp-content/uploads/2022/06/Lawyers-in-The-CIty-1-1.jpg
ORGANIZER;CN="Linda AlSharif":MAILTO:linda@heartministrycenter.org
END:VEVENT
BEGIN:VEVENT
DTSTART;TZID=America/Chicago:20270611T100000
DTEND;TZID=America/Chicago:20270611T120000
DTSTAMP:20260420T075115
CREATED:20220922T143904Z
LAST-MODIFIED:20220922T143904Z
UID:26587-1812708000-1812715200@heartministrycenter.org
SUMMARY:Lawyers in the City
DESCRIPTION:2221 Wirt Street \nLegal Advice for first come\, first serve \n(Presente traductor ingles espanol) \nCivil law questions only (no criminal law\, no appeals) \nBrief legal advice for low-income residents \nLegal resources and self-help forms \n 
URL:https://heartministrycenter.org/event/lawyers-in-the-city-3-2023-11-10/2027-06-11/
LOCATION:Heart Ministry Center\, 2222 Binney Street\, Omaha\, NE\, 68110\, United States
CATEGORIES:Legal
ATTACH;FMTTYPE=image/jpeg:https://heartministrycenter.org/wp-content/uploads/2022/06/Lawyers-in-The-CIty-1-1.jpg
ORGANIZER;CN="Linda AlSharif":MAILTO:linda@heartministrycenter.org
END:VEVENT
BEGIN:VEVENT
DTSTART;TZID=America/Chicago:20270709T100000
DTEND;TZID=America/Chicago:20270709T120000
DTSTAMP:20260420T075115
CREATED:20220922T143904Z
LAST-MODIFIED:20220922T143904Z
UID:26588-1815127200-1815134400@heartministrycenter.org
SUMMARY:Lawyers in the City
DESCRIPTION:2221 Wirt Street \nLegal Advice for first come\, first serve \n(Presente traductor ingles espanol) \nCivil law questions only (no criminal law\, no appeals) \nBrief legal advice for low-income residents \nLegal resources and self-help forms \n 
URL:https://heartministrycenter.org/event/lawyers-in-the-city-3-2023-11-10/2027-07-09/
LOCATION:Heart Ministry Center\, 2222 Binney Street\, Omaha\, NE\, 68110\, United States
CATEGORIES:Legal
ATTACH;FMTTYPE=image/jpeg:https://heartministrycenter.org/wp-content/uploads/2022/06/Lawyers-in-The-CIty-1-1.jpg
ORGANIZER;CN="Linda AlSharif":MAILTO:linda@heartministrycenter.org
END:VEVENT
BEGIN:VEVENT
DTSTART;TZID=America/Chicago:20270813T100000
DTEND;TZID=America/Chicago:20270813T120000
DTSTAMP:20260420T075115
CREATED:20220922T143904Z
LAST-MODIFIED:20220922T143904Z
UID:26589-1818151200-1818158400@heartministrycenter.org
SUMMARY:Lawyers in the City
DESCRIPTION:2221 Wirt Street \nLegal Advice for first come\, first serve \n(Presente traductor ingles espanol) \nCivil law questions only (no criminal law\, no appeals) \nBrief legal advice for low-income residents \nLegal resources and self-help forms \n 
URL:https://heartministrycenter.org/event/lawyers-in-the-city-3-2023-11-10/2027-08-13/
LOCATION:Heart Ministry Center\, 2222 Binney Street\, Omaha\, NE\, 68110\, United States
CATEGORIES:Legal
ATTACH;FMTTYPE=image/jpeg:https://heartministrycenter.org/wp-content/uploads/2022/06/Lawyers-in-The-CIty-1-1.jpg
ORGANIZER;CN="Linda AlSharif":MAILTO:linda@heartministrycenter.org
END:VEVENT
BEGIN:VEVENT
DTSTART;TZID=America/Chicago:20270910T100000
DTEND;TZID=America/Chicago:20270910T120000
DTSTAMP:20260420T075115
CREATED:20220922T143904Z
LAST-MODIFIED:20220922T143904Z
UID:26590-1820570400-1820577600@heartministrycenter.org
SUMMARY:Lawyers in the City
DESCRIPTION:2221 Wirt Street \nLegal Advice for first come\, first serve \n(Presente traductor ingles espanol) \nCivil law questions only (no criminal law\, no appeals) \nBrief legal advice for low-income residents \nLegal resources and self-help forms \n 
URL:https://heartministrycenter.org/event/lawyers-in-the-city-3-2023-11-10/2027-09-10/
LOCATION:Heart Ministry Center\, 2222 Binney Street\, Omaha\, NE\, 68110\, United States
CATEGORIES:Legal
ATTACH;FMTTYPE=image/jpeg:https://heartministrycenter.org/wp-content/uploads/2022/06/Lawyers-in-The-CIty-1-1.jpg
ORGANIZER;CN="Linda AlSharif":MAILTO:linda@heartministrycenter.org
END:VEVENT
BEGIN:VEVENT
DTSTART;TZID=America/Chicago:20271008T100000
DTEND;TZID=America/Chicago:20271008T120000
DTSTAMP:20260420T075115
CREATED:20220922T143904Z
LAST-MODIFIED:20220922T143904Z
UID:26630-1822989600-1822996800@heartministrycenter.org
SUMMARY:Lawyers in the City
DESCRIPTION:2221 Wirt Street \nLegal Advice for first come\, first serve \n(Presente traductor ingles espanol) \nCivil law questions only (no criminal law\, no appeals) \nBrief legal advice for low-income residents \nLegal resources and self-help forms \n 
URL:https://heartministrycenter.org/event/lawyers-in-the-city-3-2023-11-10/2027-10-08/
LOCATION:Heart Ministry Center\, 2222 Binney Street\, Omaha\, NE\, 68110\, United States
CATEGORIES:Legal
ATTACH;FMTTYPE=image/jpeg:https://heartministrycenter.org/wp-content/uploads/2022/06/Lawyers-in-The-CIty-1-1.jpg
ORGANIZER;CN="Linda AlSharif":MAILTO:linda@heartministrycenter.org
END:VEVENT
BEGIN:VEVENT
DTSTART;TZID=America/Chicago:20271112T100000
DTEND;TZID=America/Chicago:20271112T120000
DTSTAMP:20260420T075115
CREATED:20220922T143904Z
LAST-MODIFIED:20220922T143904Z
UID:26831-1826013600-1826020800@heartministrycenter.org
SUMMARY:Lawyers in the City
DESCRIPTION:2221 Wirt Street \nLegal Advice for first come\, first serve \n(Presente traductor ingles espanol) \nCivil law questions only (no criminal law\, no appeals) \nBrief legal advice for low-income residents \nLegal resources and self-help forms \n 
URL:https://heartministrycenter.org/event/lawyers-in-the-city-3-2023-11-10/2027-11-12/
LOCATION:Heart Ministry Center\, 2222 Binney Street\, Omaha\, NE\, 68110\, United States
CATEGORIES:Legal
ATTACH;FMTTYPE=image/jpeg:https://heartministrycenter.org/wp-content/uploads/2022/06/Lawyers-in-The-CIty-1-1.jpg
ORGANIZER;CN="Linda AlSharif":MAILTO:linda@heartministrycenter.org
END:VEVENT
BEGIN:VEVENT
DTSTART;TZID=America/Chicago:20271210T100000
DTEND;TZID=America/Chicago:20271210T120000
DTSTAMP:20260420T075115
CREATED:20220922T143904Z
LAST-MODIFIED:20220922T143904Z
UID:26983-1828432800-1828440000@heartministrycenter.org
SUMMARY:Lawyers in the City
DESCRIPTION:2221 Wirt Street \nLegal Advice for first come\, first serve \n(Presente traductor ingles espanol) \nCivil law questions only (no criminal law\, no appeals) \nBrief legal advice for low-income residents \nLegal resources and self-help forms \n 
URL:https://heartministrycenter.org/event/lawyers-in-the-city-3-2023-11-10/2027-12-10/
LOCATION:Heart Ministry Center\, 2222 Binney Street\, Omaha\, NE\, 68110\, United States
CATEGORIES:Legal
ATTACH;FMTTYPE=image/jpeg:https://heartministrycenter.org/wp-content/uploads/2022/06/Lawyers-in-The-CIty-1-1.jpg
ORGANIZER;CN="Linda AlSharif":MAILTO:linda@heartministrycenter.org
END:VEVENT
BEGIN:VEVENT
DTSTART;TZID=America/Chicago:20280114T100000
DTEND;TZID=America/Chicago:20280114T120000
DTSTAMP:20260420T075115
CREATED:20220922T143904Z
LAST-MODIFIED:20220922T143904Z
UID:27044-1831456800-1831464000@heartministrycenter.org
SUMMARY:Lawyers in the City
DESCRIPTION:2221 Wirt Street \nLegal Advice for first come\, first serve \n(Presente traductor ingles espanol) \nCivil law questions only (no criminal law\, no appeals) \nBrief legal advice for low-income residents \nLegal resources and self-help forms \n 
URL:https://heartministrycenter.org/event/lawyers-in-the-city-3-2023-11-10/2028-01-14/
LOCATION:Heart Ministry Center\, 2222 Binney Street\, Omaha\, NE\, 68110\, United States
CATEGORIES:Legal
ATTACH;FMTTYPE=image/jpeg:https://heartministrycenter.org/wp-content/uploads/2022/06/Lawyers-in-The-CIty-1-1.jpg
ORGANIZER;CN="Linda AlSharif":MAILTO:linda@heartministrycenter.org
END:VEVENT
BEGIN:VEVENT
DTSTART;TZID=America/Chicago:20280211T100000
DTEND;TZID=America/Chicago:20280211T120000
DTSTAMP:20260420T075115
CREATED:20220922T143904Z
LAST-MODIFIED:20220922T143904Z
UID:27206-1833876000-1833883200@heartministrycenter.org
SUMMARY:Lawyers in the City
DESCRIPTION:2221 Wirt Street \nLegal Advice for first come\, first serve \n(Presente traductor ingles espanol) \nCivil law questions only (no criminal law\, no appeals) \nBrief legal advice for low-income residents \nLegal resources and self-help forms \n 
URL:https://heartministrycenter.org/event/lawyers-in-the-city-3-2023-11-10/2028-02-11/
LOCATION:Heart Ministry Center\, 2222 Binney Street\, Omaha\, NE\, 68110\, United States
CATEGORIES:Legal
ATTACH;FMTTYPE=image/jpeg:https://heartministrycenter.org/wp-content/uploads/2022/06/Lawyers-in-The-CIty-1-1.jpg
ORGANIZER;CN="Linda AlSharif":MAILTO:linda@heartministrycenter.org
END:VEVENT
BEGIN:VEVENT
DTSTART;TZID=America/Chicago:20280310T100000
DTEND;TZID=America/Chicago:20280310T120000
DTSTAMP:20260420T075115
CREATED:20220922T143904Z
LAST-MODIFIED:20220922T143904Z
UID:27262-1836295200-1836302400@heartministrycenter.org
SUMMARY:Lawyers in the City
DESCRIPTION:2221 Wirt Street \nLegal Advice for first come\, first serve \n(Presente traductor ingles espanol) \nCivil law questions only (no criminal law\, no appeals) \nBrief legal advice for low-income residents \nLegal resources and self-help forms \n 
URL:https://heartministrycenter.org/event/lawyers-in-the-city-3-2023-11-10/2028-03-10/
LOCATION:Heart Ministry Center\, 2222 Binney Street\, Omaha\, NE\, 68110\, United States
CATEGORIES:Legal
ATTACH;FMTTYPE=image/jpeg:https://heartministrycenter.org/wp-content/uploads/2022/06/Lawyers-in-The-CIty-1-1.jpg
ORGANIZER;CN="Linda AlSharif":MAILTO:linda@heartministrycenter.org
END:VEVENT
BEGIN:VEVENT
DTSTART;TZID=America/Chicago:20280414T100000
DTEND;TZID=America/Chicago:20280414T120000
DTSTAMP:20260420T075115
CREATED:20220922T143904Z
LAST-MODIFIED:20220922T143904Z
UID:27339-1839319200-1839326400@heartministrycenter.org
SUMMARY:Lawyers in the City
DESCRIPTION:2221 Wirt Street \nLegal Advice for first come\, first serve \n(Presente traductor ingles espanol) \nCivil law questions only (no criminal law\, no appeals) \nBrief legal advice for low-income residents \nLegal resources and self-help forms \n 
URL:https://heartministrycenter.org/event/lawyers-in-the-city-3-2023-11-10/2028-04-14/
LOCATION:Heart Ministry Center\, 2222 Binney Street\, Omaha\, NE\, 68110\, United States
CATEGORIES:Legal
ATTACH;FMTTYPE=image/jpeg:https://heartministrycenter.org/wp-content/uploads/2022/06/Lawyers-in-The-CIty-1-1.jpg
ORGANIZER;CN="Linda AlSharif":MAILTO:linda@heartministrycenter.org
END:VEVENT
END:VCALENDAR