BEGIN:VCALENDAR
VERSION:2.0
PRODID:-//Heart Ministry Center - ECPv6.15.20//NONSGML v1.0//EN
CALSCALE:GREGORIAN
METHOD:PUBLISH
X-ORIGINAL-URL:https://heartministrycenter.org
X-WR-CALDESC:Events for Heart Ministry Center
REFRESH-INTERVAL;VALUE=DURATION:PT1H
X-Robots-Tag:noindex
X-PUBLISHED-TTL:PT1H
BEGIN:VTIMEZONE
TZID:America/Chicago
BEGIN:DAYLIGHT
TZOFFSETFROM:-0600
TZOFFSETTO:-0500
TZNAME:CDT
DTSTART:20230312T080000
END:DAYLIGHT
BEGIN:STANDARD
TZOFFSETFROM:-0500
TZOFFSETTO:-0600
TZNAME:CST
DTSTART:20231105T070000
END:STANDARD
BEGIN:DAYLIGHT
TZOFFSETFROM:-0600
TZOFFSETTO:-0500
TZNAME:CDT
DTSTART:20240310T080000
END:DAYLIGHT
BEGIN:STANDARD
TZOFFSETFROM:-0500
TZOFFSETTO:-0600
TZNAME:CST
DTSTART:20241103T070000
END:STANDARD
BEGIN:DAYLIGHT
TZOFFSETFROM:-0600
TZOFFSETTO:-0500
TZNAME:CDT
DTSTART:20250309T080000
END:DAYLIGHT
BEGIN:STANDARD
TZOFFSETFROM:-0500
TZOFFSETTO:-0600
TZNAME:CST
DTSTART:20251102T070000
END:STANDARD
END:VTIMEZONE
BEGIN:VEVENT
DTSTART;TZID=America/Chicago:20241106T100000
DTEND;TZID=America/Chicago:20241106T110000
DTSTAMP:20260421T044253
CREATED:20230727T192124Z
LAST-MODIFIED:20250305T034029Z
UID:24891-1730887200-1730890800@heartministrycenter.org
SUMMARY:Way Forward Orientation - Español
DESCRIPTION:Ayuda para los miembros de la comunidad que tienen dificultades para pagar las facturas de su casa. \n¡La orientación es el comienzo de un mejor Camino a Seguir! \n(Fechas sujetas a cambios por vacaciones)
URL:https://heartministrycenter.org/event/way-forward-orientation-espanol/2024-11-06/
LOCATION:NE
ATTACH;FMTTYPE=image/png:https://heartministrycenter.org/wp-content/uploads/2023/07/orientation-hmc.png
ORGANIZER;CN="Linda AlSharif":MAILTO:linda@heartministrycenter.org
END:VEVENT
BEGIN:VEVENT
DTSTART;TZID=America/Chicago:20241106T130000
DTEND;TZID=America/Chicago:20241106T140000
DTSTAMP:20260421T044253
CREATED:20220617T224623Z
LAST-MODIFIED:20251121T201322Z
UID:24923-1730898000-1730901600@heartministrycenter.org
SUMMARY:A Way Forward Orientation
DESCRIPTION:The Willing Partner program will work with you on a long-term solution to put you on the road to sufficiency. \nWe will further discuss all the programs and resources offered at Heart Ministry Center. \nThe orientation is the start of a better Way Forward! \n(Dates subject to change due to holidays)
URL:https://heartministrycenter.org/event/way-forward-orientation-6/2024-11-06/
LOCATION:NE
ATTACH;FMTTYPE=image/png:https://heartministrycenter.org/wp-content/uploads/2023/07/orientation-hmc.png
ORGANIZER;CN="Rayna Pollock":MAILTO:rayna@heartministrycenter.org
END:VEVENT
BEGIN:VEVENT
DTSTART;TZID=America/Chicago:20241108T100000
DTEND;TZID=America/Chicago:20241108T123000
DTSTAMP:20260421T044253
CREATED:20241031T153449Z
LAST-MODIFIED:20241031T153449Z
UID:24596-1731060000-1731069000@heartministrycenter.org
SUMMARY:Budgeting Class with LendingLink
DESCRIPTION:Are you looking to finance a vehicle? \nMaybe wanting to secure a personal loan or a small business loan? \nLending Link will be at Heart Ministry Center every other Friday of the month for help assisting and securing your personal loans. \n10am – English \n11:15am – Spanish
URL:https://heartministrycenter.org/event/budgeting-class-with-lendinglink/2024-11-08/
LOCATION:Heart Ministry Center\, 2222 Binney Street\, Omaha\, NE\, 68110\, United States
ATTACH;FMTTYPE=image/png:https://heartministrycenter.org/wp-content/uploads/2023/05/budget-class-copy.png
END:VEVENT
BEGIN:VEVENT
DTSTART;TZID=America/Chicago:20241118T093000
DTEND;TZID=America/Chicago:20241118T110000
DTSTAMP:20260421T044253
CREATED:20241114T215452Z
LAST-MODIFIED:20260128T203030Z
UID:24689-1731922200-1731927600@heartministrycenter.org
SUMMARY:Diaper Day at HMC
DESCRIPTION:Do you know a parent in Omaha in sincere need of diapers for their baby? \nIn collaboration with Nebraska Diaper Bank\, each third Monday of the month from 9:30am – 11:30am we will be hosting a free diaper giveaway in the lobby of HMC. \nLimited quantities available. \nChildren eligible until their third birthday. \nOnly the parent or legal guardian can pick up diapers. \n*Proof of children’s age will be required at each event.
URL:https://heartministrycenter.org/event/diaper-day-at-hmc/2024-11-18/
LOCATION:Heart Ministry Center\, 2222 Binney Street\, Omaha\, NE\, 68110\, United States
ATTACH;FMTTYPE=image/png:https://heartministrycenter.org/wp-content/uploads/2024/11/HMC-calendar-diaper-copy-1.png
END:VEVENT
END:VCALENDAR