BEGIN:VCALENDAR
VERSION:2.0
PRODID:-//Heart Ministry Center - ECPv6.15.20//NONSGML v1.0//EN
CALSCALE:GREGORIAN
METHOD:PUBLISH
X-ORIGINAL-URL:https://heartministrycenter.org
X-WR-CALDESC:Events for Heart Ministry Center
REFRESH-INTERVAL;VALUE=DURATION:PT1H
X-Robots-Tag:noindex
X-PUBLISHED-TTL:PT1H
BEGIN:VTIMEZONE
TZID:America/Chicago
BEGIN:DAYLIGHT
TZOFFSETFROM:-0600
TZOFFSETTO:-0500
TZNAME:CDT
DTSTART:20270314T080000
END:DAYLIGHT
BEGIN:STANDARD
TZOFFSETFROM:-0500
TZOFFSETTO:-0600
TZNAME:CST
DTSTART:20271107T070000
END:STANDARD
BEGIN:DAYLIGHT
TZOFFSETFROM:-0600
TZOFFSETTO:-0500
TZNAME:CDT
DTSTART:20280312T080000
END:DAYLIGHT
BEGIN:STANDARD
TZOFFSETFROM:-0500
TZOFFSETTO:-0600
TZNAME:CST
DTSTART:20281105T070000
END:STANDARD
BEGIN:DAYLIGHT
TZOFFSETFROM:-0600
TZOFFSETTO:-0500
TZNAME:CDT
DTSTART:20290311T080000
END:DAYLIGHT
BEGIN:STANDARD
TZOFFSETFROM:-0500
TZOFFSETTO:-0600
TZNAME:CST
DTSTART:20291104T070000
END:STANDARD
END:VTIMEZONE
BEGIN:VEVENT
DTSTART;TZID=America/Chicago:20280412T100000
DTEND;TZID=America/Chicago:20280412T120000
DTSTAMP:20260420T092318
CREATED:20230510T150045Z
LAST-MODIFIED:20230510T150045Z
UID:27334-1839146400-1839153600@heartministrycenter.org
SUMMARY:Lending Link at Heart Ministry Center
DESCRIPTION:Are you looking to finance a vehicle? \nMaybe wanting to secure a personal loan or a small business loan? \nLending Link will be at Heart Ministry Center every Wednesday and Friday from 10am to 1pm for help assisting and securing your personal loans.
URL:https://heartministrycenter.org/event/lending-link-at-heart-ministry-center/2028-04-12/
LOCATION:Heart Ministry Center\, 2222 Binney Street\, Omaha\, NE\, 68110\, United States
ATTACH;FMTTYPE=image/png:https://heartministrycenter.org/wp-content/uploads/2023/05/budget-class-copy.png
END:VEVENT
BEGIN:VEVENT
DTSTART;TZID=America/Chicago:20280412T150000
DTEND;TZID=America/Chicago:20280412T170000
DTSTAMP:20260420T092318
CREATED:20251103T204757Z
LAST-MODIFIED:20251103T204757Z
UID:27335-1839164400-1839171600@heartministrycenter.org
SUMMARY:Al-Anon Meetings
DESCRIPTION:Has your life been affected by someone else’s drinking or drug use? \nThis group is for people whose lives have been affected by someone else’s addiction.  \nAl-Anon can bring positive changes to your life\, whether or not the addict admits the existence of an addiction or seeks help. \nThis group will meet Wednesday afternoons at 3:00pm in the Community Classroom at Heart Ministry Center.
URL:https://heartministrycenter.org/event/al-anon-meetings/2028-04-12/
LOCATION:Heart Ministry Center\, 2222 Binney Street\, Omaha\, NE\, 68110\, United States
ATTACH;FMTTYPE=image/png:https://heartministrycenter.org/wp-content/uploads/2025/11/Al-Anon-Meetings.png
END:VEVENT
BEGIN:VEVENT
DTSTART;TZID=America/Chicago:20280414T100000
DTEND;TZID=America/Chicago:20280414T120000
DTSTAMP:20260420T092318
CREATED:20220922T143904Z
LAST-MODIFIED:20220922T143904Z
UID:27339-1839319200-1839326400@heartministrycenter.org
SUMMARY:Lawyers in the City
DESCRIPTION:2221 Wirt Street \nLegal Advice for first come\, first serve \n(Presente traductor ingles espanol) \nCivil law questions only (no criminal law\, no appeals) \nBrief legal advice for low-income residents \nLegal resources and self-help forms \n 
URL:https://heartministrycenter.org/event/lawyers-in-the-city-3-2023-11-10/2028-04-14/
LOCATION:Heart Ministry Center\, 2222 Binney Street\, Omaha\, NE\, 68110\, United States
CATEGORIES:Legal
ATTACH;FMTTYPE=image/jpeg:https://heartministrycenter.org/wp-content/uploads/2022/06/Lawyers-in-The-CIty-1-1.jpg
ORGANIZER;CN="Linda AlSharif":MAILTO:linda@heartministrycenter.org
END:VEVENT
BEGIN:VEVENT
DTSTART;TZID=America/Chicago:20280417T093000
DTEND;TZID=America/Chicago:20280417T110000
DTSTAMP:20260420T092318
CREATED:20241114T215452Z
LAST-MODIFIED:20241114T215452Z
UID:27347-1839576600-1839582000@heartministrycenter.org
SUMMARY:Diaper Day at HMC
DESCRIPTION:Do you know a parent in Omaha in sincere need of diapers for their baby? \nIn collaboration with Nebraska Diaper Bank\, each third Monday of the month from 9:30am – 11:30am we will be hosting a free diaper giveaway in the lobby of HMC. \nLimited quantities available. \nChildren eligible until their third birthday. \nOnly the parent or legal guardian can pick up diapers. \n*Proof of children’s age will be required at each event.
URL:https://heartministrycenter.org/event/diaper-day-at-hmc/2028-04-17/
LOCATION:Heart Ministry Center\, 2222 Binney Street\, Omaha\, NE\, 68110\, United States
ATTACH;FMTTYPE=image/png:https://heartministrycenter.org/wp-content/uploads/2024/11/HMC-calendar-diaper-copy-1.png
END:VEVENT
BEGIN:VEVENT
DTSTART;TZID=America/Chicago:20280419T100000
DTEND;TZID=America/Chicago:20280419T120000
DTSTAMP:20260420T092318
CREATED:20230510T150045Z
LAST-MODIFIED:20230510T150045Z
UID:27360-1839751200-1839758400@heartministrycenter.org
SUMMARY:Lending Link at Heart Ministry Center
DESCRIPTION:Are you looking to finance a vehicle? \nMaybe wanting to secure a personal loan or a small business loan? \nLending Link will be at Heart Ministry Center every Wednesday and Friday from 10am to 1pm for help assisting and securing your personal loans.
URL:https://heartministrycenter.org/event/lending-link-at-heart-ministry-center/2028-04-19/
LOCATION:Heart Ministry Center\, 2222 Binney Street\, Omaha\, NE\, 68110\, United States
ATTACH;FMTTYPE=image/png:https://heartministrycenter.org/wp-content/uploads/2023/05/budget-class-copy.png
END:VEVENT
BEGIN:VEVENT
DTSTART;TZID=America/Chicago:20280419T150000
DTEND;TZID=America/Chicago:20280419T170000
DTSTAMP:20260420T092318
CREATED:20251103T204757Z
LAST-MODIFIED:20251103T204757Z
UID:27361-1839769200-1839776400@heartministrycenter.org
SUMMARY:Al-Anon Meetings
DESCRIPTION:Has your life been affected by someone else’s drinking or drug use? \nThis group is for people whose lives have been affected by someone else’s addiction.  \nAl-Anon can bring positive changes to your life\, whether or not the addict admits the existence of an addiction or seeks help. \nThis group will meet Wednesday afternoons at 3:00pm in the Community Classroom at Heart Ministry Center.
URL:https://heartministrycenter.org/event/al-anon-meetings/2028-04-19/
LOCATION:Heart Ministry Center\, 2222 Binney Street\, Omaha\, NE\, 68110\, United States
ATTACH;FMTTYPE=image/png:https://heartministrycenter.org/wp-content/uploads/2025/11/Al-Anon-Meetings.png
END:VEVENT
END:VCALENDAR