BEGIN:VCALENDAR
VERSION:2.0
PRODID:-//Heart Ministry Center - ECPv6.15.20//NONSGML v1.0//EN
CALSCALE:GREGORIAN
METHOD:PUBLISH
X-WR-CALNAME:Heart Ministry Center
X-ORIGINAL-URL:https://heartministrycenter.org
X-WR-CALDESC:Events for Heart Ministry Center
REFRESH-INTERVAL;VALUE=DURATION:PT1H
X-Robots-Tag:noindex
X-PUBLISHED-TTL:PT1H
BEGIN:VTIMEZONE
TZID:America/Chicago
BEGIN:DAYLIGHT
TZOFFSETFROM:-0600
TZOFFSETTO:-0500
TZNAME:CDT
DTSTART:20230312T080000
END:DAYLIGHT
BEGIN:STANDARD
TZOFFSETFROM:-0500
TZOFFSETTO:-0600
TZNAME:CST
DTSTART:20231105T070000
END:STANDARD
BEGIN:DAYLIGHT
TZOFFSETFROM:-0600
TZOFFSETTO:-0500
TZNAME:CDT
DTSTART:20240310T080000
END:DAYLIGHT
BEGIN:STANDARD
TZOFFSETFROM:-0500
TZOFFSETTO:-0600
TZNAME:CST
DTSTART:20241103T070000
END:STANDARD
BEGIN:DAYLIGHT
TZOFFSETFROM:-0600
TZOFFSETTO:-0500
TZNAME:CDT
DTSTART:20250309T080000
END:DAYLIGHT
BEGIN:STANDARD
TZOFFSETFROM:-0500
TZOFFSETTO:-0600
TZNAME:CST
DTSTART:20251102T070000
END:STANDARD
END:VTIMEZONE
BEGIN:VEVENT
DTSTART;TZID=America/Chicago:20241204T100000
DTEND;TZID=America/Chicago:20241204T110000
DTSTAMP:20260421T045707
CREATED:20230727T192124Z
LAST-MODIFIED:20230727T192124Z
UID:26894-1733306400-1733310000@heartministrycenter.org
SUMMARY:Una Orientación Hacia el Futuro - Español
DESCRIPTION:El programa de Socio Voluntario trabajará contigo para encontrar una solución a largo plazo que te ayude a alcanzar la autosuficiencia. \nHablaremos con más detalle sobre todos los programas y recursos que ofrece Heart Ministry Center. \n¡La orientación es el comienzo de un mejor camino a seguir! \n(Fechas sujetas a cambios debido a días festivos)
URL:https://heartministrycenter.org/event/way-forward-orientation-espanol/2024-12-04/
LOCATION:NE
ATTACH;FMTTYPE=image/png:https://heartministrycenter.org/wp-content/uploads/2023/07/orientation-hmc.png
ORGANIZER;CN="Rayna Pollock":MAILTO:rayna@heartministrycenter.org
END:VEVENT
BEGIN:VEVENT
DTSTART;TZID=America/Chicago:20241204T130000
DTEND;TZID=America/Chicago:20241204T140000
DTSTAMP:20260421T045707
CREATED:20220617T224623Z
LAST-MODIFIED:20220617T224623Z
UID:26339-1733317200-1733320800@heartministrycenter.org
SUMMARY:A Way Forward Orientation
DESCRIPTION:The Willing Partner program will work with you on a long-term solution to put you on the road to sufficiency. \nWe will further discuss all the programs and resources offered at Heart Ministry Center. \nThe orientation is the start of a better Way Forward! \n(Dates subject to change due to holidays)
URL:https://heartministrycenter.org/event/way-forward-orientation-6/2024-12-04/
LOCATION:NE
ATTACH;FMTTYPE=image/png:https://heartministrycenter.org/wp-content/uploads/2023/07/orientation-hmc.png
ORGANIZER;CN="Rayna Pollock":MAILTO:rayna@heartministrycenter.org
END:VEVENT
END:VCALENDAR