BEGIN:VCALENDAR
VERSION:2.0
PRODID:-//Heart Ministry Center - ECPv6.15.20//NONSGML v1.0//EN
CALSCALE:GREGORIAN
METHOD:PUBLISH
X-ORIGINAL-URL:https://heartministrycenter.org
X-WR-CALDESC:Events for Heart Ministry Center
REFRESH-INTERVAL;VALUE=DURATION:PT1H
X-Robots-Tag:noindex
X-PUBLISHED-TTL:PT1H
BEGIN:VTIMEZONE
TZID:America/Chicago
BEGIN:DAYLIGHT
TZOFFSETFROM:-0600
TZOFFSETTO:-0500
TZNAME:CDT
DTSTART:20230312T080000
END:DAYLIGHT
BEGIN:STANDARD
TZOFFSETFROM:-0500
TZOFFSETTO:-0600
TZNAME:CST
DTSTART:20231105T070000
END:STANDARD
BEGIN:DAYLIGHT
TZOFFSETFROM:-0600
TZOFFSETTO:-0500
TZNAME:CDT
DTSTART:20240310T080000
END:DAYLIGHT
BEGIN:STANDARD
TZOFFSETFROM:-0500
TZOFFSETTO:-0600
TZNAME:CST
DTSTART:20241103T070000
END:STANDARD
BEGIN:DAYLIGHT
TZOFFSETFROM:-0600
TZOFFSETTO:-0500
TZNAME:CDT
DTSTART:20250309T080000
END:DAYLIGHT
BEGIN:STANDARD
TZOFFSETFROM:-0500
TZOFFSETTO:-0600
TZNAME:CST
DTSTART:20251102T070000
END:STANDARD
END:VTIMEZONE
BEGIN:VEVENT
DTSTART;TZID=America/Chicago:20241108T100000
DTEND;TZID=America/Chicago:20241108T123000
DTSTAMP:20260421T060829
CREATED:20241031T153449Z
LAST-MODIFIED:20241031T153449Z
UID:24596-1731060000-1731069000@heartministrycenter.org
SUMMARY:Budgeting Class with LendingLink
DESCRIPTION:Are you looking to finance a vehicle? \nMaybe wanting to secure a personal loan or a small business loan? \nLending Link will be at Heart Ministry Center every other Friday of the month for help assisting and securing your personal loans. \n10am – English \n11:15am – Spanish
URL:https://heartministrycenter.org/event/budgeting-class-with-lendinglink/2024-11-08/
LOCATION:Heart Ministry Center\, 2222 Binney Street\, Omaha\, NE\, 68110\, United States
ATTACH;FMTTYPE=image/png:https://heartministrycenter.org/wp-content/uploads/2023/05/budget-class-copy.png
END:VEVENT
END:VCALENDAR